BEGIN:VCALENDAR
VERSION:2.0
PRODID:-//American English Academy - ECPv6.15.20//NONSGML v1.0//EN
CALSCALE:GREGORIAN
METHOD:PUBLISH
X-ORIGINAL-URL:https://americanenglishacademy.edu.mx
X-WR-CALDESC:Eventos para American English Academy
REFRESH-INTERVAL;VALUE=DURATION:PT1H
X-Robots-Tag:noindex
X-PUBLISHED-TTL:PT1H
BEGIN:VTIMEZONE
TZID:UTC
BEGIN:STANDARD
TZOFFSETFROM:+0000
TZOFFSETTO:+0000
TZNAME:UTC
DTSTART:20240101T000000
END:STANDARD
END:VTIMEZONE
BEGIN:VEVENT
DTSTART;TZID=UTC:20250325T080000
DTEND;TZID=UTC:20260901T170000
DTSTAMP:20260420T103603
CREATED:20250326T214646Z
LAST-MODIFIED:20260318T045830Z
UID:1435-1742889600-1788282000@americanenglishacademy.edu.mx
SUMMARY:Inscripciones Abiertas
DESCRIPTION:2 de Mayo Inicio de Inscripciones para el Ciclo 2026- 2027\, Inicio de Clases en Septiembre
URL:https://americanenglishacademy.edu.mx/noticia/1435/
CATEGORIES:Noticias
END:VEVENT
END:VCALENDAR